BEGIN:VCALENDAR
VERSION:2.0
PRODID:-//TYPO3 CMS//NONSGML GeorgRinger News Extension//EN
CALSCALE:GREGORIAN
X-WR-TIMEZONE:Europe/Berlin
BEGIN:VEVENT
UID:5765@www.uniklinik-ulm.de
DTSTAMP:20260422T230714Z
DTSTART;TZID=Europe/Berlin:20260304T173000
DTEND;TZID=Europe/Berlin:20260304T193000
SUMMARY:Patienteninformationsabend März 2026
DESCRIPTION:Übergewicht effektiv behandeln

URL:https://www.uniklinik-ulm.de//allgemein-und-viszeralchirurgie/aktuelles-veranstaltungen/veranstaltungen/detailansicht/patienteninformationsabend-maerz-2026.html
STATUS:CONFIRMED
SEQUENCE:0
CLASS:PUBLIC
END:VEVENT
END:VCALENDAR