BEGIN:VCALENDAR
VERSION:2.0
PRODID:-//TYPO3 CMS//NONSGML GeorgRinger News Extension//EN
CALSCALE:GREGORIAN
X-WR-TIMEZONE:Europe/Berlin
BEGIN:VEVENT
UID:5898@www.uniklinik-ulm.de
DTSTAMP:20260422T200031Z
DTSTART;TZID=Europe/Berlin:20260611T140000
DTEND;TZID=Europe/Berlin:20260612T170000
SUMMARY:6. Masterclass | Robotische Leberchirurgie 
DESCRIPTION:

URL:https://www.uniklinik-ulm.de/en/home.html/en/allgemein-und-viszeralchirurgie/aktuelles-veranstaltungen/veranstaltungen/detailansicht/6-masterclass-robotische-leberchirurgie.html
STATUS:CONFIRMED
SEQUENCE:0
CLASS:PUBLIC
END:VEVENT
END:VCALENDAR