BEGIN:VCALENDAR
VERSION:2.0
PRODID:-//TYPO3 CMS//NONSGML GeorgRinger News Extension//EN
CALSCALE:GREGORIAN
X-WR-TIMEZONE:Europe/Berlin
BEGIN:VEVENT
UID:6021@www.uniklinik-ulm.de
DTSTAMP:20260422T130443Z
DTSTART;TZID=Europe/Berlin:20260509T120000
DTEND;TZID=Europe/Berlin:20260510T143700
SUMMARY:Einladung zum 53. Symposium des Instituts für Konfliktforschung
DESCRIPTION:„Migration, Strafrecht und Psychiatrie: Flucht – aus der Verantwortung?"
LOCATION:Maria Laach
URL:https://www.uniklinik-ulm.de/en/home.html/en/forensische-psychiatrie-und-psychotherapie/aktuelles-veranstaltungen/veranstaltungen/detailansicht/einladung-zum-53-symposium-des-instituts-fuer-konfliktforschung.html
STATUS:CONFIRMED
SEQUENCE:0
CLASS:PUBLIC
END:VEVENT
END:VCALENDAR