BEGIN:VCALENDAR
VERSION:2.0
PRODID:-//TYPO3 CMS//NONSGML GeorgRinger News Extension//EN
CALSCALE:GREGORIAN
X-WR-TIMEZONE:Europe/Berlin
BEGIN:VEVENT
UID:6022@www.uniklinik-ulm.de
DTSTAMP:20260422T130443Z
DTSTART;TZID=Europe/Berlin:20260513T140000
DTEND;TZID=Europe/Berlin:20260513T150000
SUMMARY:Online-Vortrag mit Dr. Christiane Licht zum Thema "Elektrokonvulsionstherapie (EKT) in der Forensik – Indikationen, Chancen und Grenzen“
DESCRIPTION:

URL:https://www.uniklinik-ulm.de/en/home.html/en/forensische-psychiatrie-und-psychotherapie/aktuelles-veranstaltungen/veranstaltungen/detailansicht/online-vortrag-mit-dr-christiane-licht-elektrokonvulsionstherapie-ekt-in-der-forensik-indikationen-chancen-und-grenzen.html
STATUS:CONFIRMED
SEQUENCE:0
CLASS:PUBLIC
END:VEVENT
END:VCALENDAR