BEGIN:VCALENDAR
VERSION:2.0
PRODID:-//TYPO3 CMS//NONSGML GeorgRinger News Extension//EN
CALSCALE:GREGORIAN
X-WR-TIMEZONE:Europe/Berlin
BEGIN:VEVENT
UID:1783@www.uniklinik-ulm.de
DTSTAMP:20260423T223526Z
DTSTART;TZID=Europe/Berlin:20260522T130000
DTEND;TZID=Europe/Berlin:20260522T140000
SUMMARY:Lunch-Symposium
DESCRIPTION:Interplay Between Unlabelled Mass of Substance, PSMA Expression, and Therapeutic Index in [¹⁷⁷Lu]Lu-rhPSMA10.1 Radioligand Therapy
LOCATION:Teams-Meeting
URL:https://www.uniklinik-ulm.de/en/home.html/en/nuklearmedizin/aktuelles-veranstaltungen/veranstaltungen/detailansicht/lunch-symposium-2.html
STATUS:CONFIRMED
SEQUENCE:0
CLASS:PUBLIC
END:VEVENT
END:VCALENDAR