BEGIN:VCALENDAR
VERSION:2.0
PRODID:-//TYPO3 CMS//NONSGML GeorgRinger News Extension//EN
CALSCALE:GREGORIAN
X-WR-TIMEZONE:Europe/Berlin
BEGIN:VEVENT
UID:6050@www.uniklinik-ulm.de
DTSTAMP:20260423T210954Z
DTSTART;TZID=Europe/Berlin:20260423T180000
DTEND;TZID=Europe/Berlin:20260423T191500
SUMMARY:Ich brauche ein neues Hüftgelenk - Was nun?
DESCRIPTION:Patienteninformationsveranstaltung
LOCATION:Hörsaal Campus Nord
URL:https://www.uniklinik-ulm.de/en/home.html/en/orthopaedie/aktuelles-veranstaltungen/veranstaltungen/detailansicht/ich-brauche-ein-neues-hueftgelenk-was-nun.html
STATUS:CONFIRMED
SEQUENCE:0
CLASS:PUBLIC
END:VEVENT
END:VCALENDAR