BEGIN:VCALENDAR
VERSION:2.0
PRODID:-//TYPO3 CMS//NONSGML GeorgRinger News Extension//EN
CALSCALE:GREGORIAN
X-WR-TIMEZONE:Europe/Berlin
BEGIN:VEVENT
UID:1782@www.uniklinik-ulm.de
DTSTAMP:20260421T041727Z
DTSTART;TZID=Europe/Berlin:20260508T130000
DTEND;TZID=Europe/Berlin:20260508T140000
SUMMARY:Lunch-Symposium
DESCRIPTION:Imaging Glucose-Metabolism using PET and MRI
LOCATION:Teams-Meeting
URL:https://www.uniklinik-ulm.de//nuklearmedizin/aktuelles-veranstaltungen/veranstaltungen/detailansicht/lunch-symposium-1.html
STATUS:CONFIRMED
SEQUENCE:0
CLASS:PUBLIC
END:VEVENT
END:VCALENDAR