BEGIN:VCALENDAR
VERSION:2.0
PRODID:-//TYPO3 CMS//NONSGML GeorgRinger News Extension//EN
CALSCALE:GREGORIAN
X-WR-TIMEZONE:Europe/Berlin
BEGIN:VEVENT
UID:6051@www.uniklinik-ulm.de
DTSTAMP:20260424T001022Z
DTSTART;TZID=Europe/Berlin:20260924T180000
DTEND;TZID=Europe/Berlin:20260924T191500
SUMMARY:Ich brauche ein neues Hüftgelenk - Was nun?
DESCRIPTION:Patienteninformationsveranstaltung
LOCATION:Hörsaal Campus Nord
URL:https://www.uniklinik-ulm.de//orthopaedie/aktuelles-veranstaltungen/veranstaltungen/detailansicht/ich-brauche-ein-neues-hueftgelenk-was-nun-1.html
STATUS:CONFIRMED
SEQUENCE:0
CLASS:PUBLIC
END:VEVENT
END:VCALENDAR