BEGIN:VCALENDAR
VERSION:2.0
PRODID:-//TYPO3 CMS//NONSGML GeorgRinger News Extension//EN
CALSCALE:GREGORIAN
X-WR-TIMEZONE:Europe/Berlin
BEGIN:VEVENT
UID:4561@www.uniklinik-ulm.de
DTSTAMP:20260420T212628Z
DTSTART;TZID=Europe/Berlin:20230921T100000
DTEND;TZID=Europe/Berlin:20230922T150000
SUMMARY:5. Ulmer/Neu-Ulmer Pflegemanagementkongress
DESCRIPTION:
LOCATION:Hochschule Neu-Ulm (HNU)
URL:https://www.uniklinik-ulm.de//veranstaltungen/detailansicht/5-ulmer-neu-ulmer-pflegemanagementkongress.html
STATUS:CONFIRMED
SEQUENCE:0
CLASS:PUBLIC
END:VEVENT
END:VCALENDAR